BEGIN:VCALENDAR
VERSION:1.0
PRODID:Open2CKalenderExportV11
BEGIN:VEVENT
DTSTAMP:20150302T152016Z
DTSTART:20150622T000000Z
DTEND:20150703T000000Z
CATEGORIES:Verschiedenes
SUMMARY:Bundeswehr im Haus des Gastes in Schlachters
DESCRIPTION:
LOCATION:
UID:6fe96f8c4a45bdb3170528a8d6de8fb3-cc8065562d79f4a5b5887704e1422ab9
PRIORITY:3
END:VEVENT
BEGIN:VEVENT
DTSTAMP:20150414T124508Z
DTSTART:20150707T140000Z
DTEND:20150707T180000Z
CATEGORIES:Senioren
SUMMARY:Seniorentreff
DESCRIPTION: | Kontakt   Christel Steib, Tel. 08389 - 685
LOCATION:Festhalle Weißensberg, Vereinsraum
UID:5251c2830d9a3462b56172aaccf2283d-4459ea2cdf5f0e119259eca3528badc2
PRIORITY:3
END:VEVENT
BEGIN:VEVENT
DTSTAMP:20150414T124530Z
DTSTART:20150712T150000Z
DTEND:20150712T170000Z
CATEGORIES:Vereine
SUMMARY:Reitverein Ponyreiten
DESCRIPTION:Der Reitverein Lindau e.V. lädt 2015 jeden 2. Sonntag im Monat alle Kinder und Jugendliche recht herzlich zum Ponyreiten ein.Die jungen Pferdenarren können ein paar Runden in der Reithalle auf unseren kleinen und großen Pferden reiten und sie streicheln. Die Eltern können bei Kaffee und Kuchen entspannt den Kindern zusehen. Kommen Sie einfach bei uns vorbei und genießen sie die Zeit mit uns und auf den Pferden in der Reithalle des Reitvereins Lindau e.V., Lindauer Straße 73, 88138 Weißensberg | Kontakt   Claudia Frener, Claudiafrener@freenet.de
LOCATION:Reithalle Rehlings
UID:94c1a628cc272c3eea59b0617aa754e4-66cdec1dbbf398fc36ad209393043184
PRIORITY:3
END:VEVENT
BEGIN:VEVENT
DTSTAMP:20150302T150057Z
DTSTART:20150719T170000Z
DTEND:20150719T170000Z
CATEGORIES:Feste und Feiern
SUMMARY:Dorfhockete Sigmarszell – bei schönem Wetter -
DESCRIPTION:
LOCATION:
UID:c328df76792e930090c0b6201a479f53-fe6d3bd5e36078c4f7908803fa116785
PRIORITY:3
END:VEVENT
BEGIN:VEVENT
DTSTAMP:20150414T124704Z
DTSTART:20150726T110000Z
DTEND:20150726T210000Z
CATEGORIES:Kinder
SUMMARY:Kinderfest
DESCRIPTION: | Kontakt   Gemeinde Weißensberg
LOCATION:Festhalle Weißensberg
UID:e237f07bb144a4e5776d397d278ac950-345ef4578c8a8862868c10804485ff2d
PRIORITY:3
END:VEVENT
END:VCALENDAR
