BEGIN:VCALENDAR
VERSION:1.0
PRODID:Open2CKalenderExportV11
BEGIN:VEVENT
DTSTAMP:20150414T130302Z
DTSTART:20151103T140000Z
DTEND:20151103T180000Z
CATEGORIES:Senioren
SUMMARY:Seniorentreff
DESCRIPTION: | Kontakt   Christel Steib, Tel. 08389 - 685
LOCATION:Festhalle Weißensberg, Vereinsraum
UID:6ac37387c7f27e168ea1af9ac82e5e1d-4459ea2cdf5f0e119259eca3528badc2
PRIORITY:3
END:VEVENT
BEGIN:VEVENT
DTSTAMP:20150302T151052Z
DTSTART:20151104T093000Z
DTEND:20151104T093000Z
CATEGORIES:Vereine
SUMMARY:Frühstück im Pfarrsaal Niederstaufen (Frauenbund)
DESCRIPTION:
LOCATION:
UID:9a4b51dc11c351815f834c0712328697-223860f6a228997dd7b4448fe2fb60f1
PRIORITY:3
END:VEVENT
BEGIN:VEVENT
DTSTAMP:20150414T130250Z
DTSTART:20151108T150000Z
DTEND:20151108T170000Z
CATEGORIES:Vereine
SUMMARY:Reitverein Ponyreiten
DESCRIPTION:Der Reitverein Lindau e.V. lädt 2015 jeden 2. Sonntag im Monat alle Kinder und Jugendliche recht herzlich zum Ponyreiten ein.Die jungen Pferdenarren können ein paar Runden in der Reithalle auf unseren kleinen und großen Pferden reiten und sie streicheln. Die Eltern können bei Kaffee und Kuchen entspannt den Kindern zusehen. Kommen Sie einfach bei uns vorbei und genießen sie die Zeit mit uns und auf den Pferden in der Reithalle des Reitvereins Lindau e.V., Lindauer Straße 73, 88138 Weißensberg | Kontakt   Claudia Frener, Claudiafrener@freenet.de
LOCATION:Reithalle Rehlings
UID:a8fdf92b7bcc477b059c203e4d2bf03a-66cdec1dbbf398fc36ad209393043184
PRIORITY:3
END:VEVENT
BEGIN:VEVENT
DTSTAMP:20150302T151150Z
DTSTART:20151111T173000Z
DTEND:20151111T173000Z
CATEGORIES:Kinder
SUMMARY:St. Martinsumzug Kindergarten Niederstaufen
DESCRIPTION:
LOCATION:
UID:abaf6bb861bce4202a84ae791c2b8d9c-6325e97e482a426577e110ffd5bd66f6
PRIORITY:3
END:VEVENT
BEGIN:VEVENT
DTSTAMP:20151118T133935Z
DTSTART:20151121T140000Z
DTEND:20151121T235900Z
CATEGORIES:Feste und Feiern
SUMMARY:FiZ (Fest im Zentrum)
DESCRIPTION:Für die Kleinen: | Kinderschminken | Kasperletheater | Selbstgemachtes Stock\not |   | Selbstgemachte Schokofrüchteund weitere Leckereien |   | www.feuerwehr-niederstaufen.de | Organisator   FFW Niederstaufen und Kindergarten Niederstaufen
LOCATION:Schulplatz Niederstaufen
UID:2822a189c1ab72b89f9b2c189725fb05-f61541d4bbe2df9b66136a76d8a86f7c
PRIORITY:3
END:VEVENT
BEGIN:VEVENT
DTSTAMP:20150302T151433Z
DTSTART:20151128T200000Z
DTEND:20151128T200000Z
CATEGORIES:Vereine
SUMMARY:Jahreskonzert des Musikvereins Niederstaufen im Haus des Gastes in Schlachters
DESCRIPTION: | Organisator   FFW Niederstaufen und Kindergarten Niederstaufen
LOCATION:Schulplatz Niederstaufen
UID:63f3b5b26f90f5f79f751015f13ee4fd-30ae14dc964a604e829ee0de275d8a0b
PRIORITY:3
END:VEVENT
END:VCALENDAR
