BEGIN:VCALENDAR
VERSION:2.0
PRODID:< http://www.open2c.de/ >
METHOD:PUBLISH
X-PUBLISHED-TTL:PT12H
BEGIN:VTIMEZONE
TZID:Europe/Berlin
TZURL:http://tzurl.org/zoneinfo-outlook/Europe/Berlin
X-LIC-LOCATION:Europe/Berlin
CALSCALE:GREGORIAN
BEGIN:DAYLIGHT
TZOFFSETFROM:+0100
TZOFFSETTO:+0200
TZNAME:CEST
DTSTART:19700329T020000
RRULE:FREQ=YEARLY;BYMONTH=3;BYDAY=-1SU
END:DAYLIGHT
BEGIN:STANDARD
TZOFFSETFROM:+0200
TZOFFSETTO:+0100
TZNAME:CET
DTSTART:19701025T030000
RRULE:FREQ=YEARLY;BYMONTH=10;BYDAY=-1SU
END:STANDARD
END:VTIMEZONE
BEGIN:VEVENT
CREATED:20150414T150234
LAST-MODIFIED:20150414T150302
ORGANIZER:MAILTO:Christel Steib\, Tel. 08389 - 685
DTSTAMP:20260420T050440Z
DTSTART;TZID=Europe/Berlin:20151103T140000
DTEND;TZID=Europe/Berlin:20151103T180000
CATEGORIES:Senioren
SUMMARY:Seniorentreff
DESCRIPTION:Kontakt Christel Steib\, Tel. 08389 - 685
LOCATION:Festhalle Weißensberg\, Vereinsraum
UID:5b54b90aa31951b595369ace81d2edb1@edcfadbda1458757b59248068739096e
END:VEVENT
BEGIN:VTIMEZONE
TZID:Europe/Berlin
TZURL:http://tzurl.org/zoneinfo-outlook/Europe/Berlin
X-LIC-LOCATION:Europe/Berlin
CALSCALE:GREGORIAN
BEGIN:DAYLIGHT
TZOFFSETFROM:+0100
TZOFFSETTO:+0200
TZNAME:CEST
DTSTART:19700329T020000
RRULE:FREQ=YEARLY;BYMONTH=3;BYDAY=-1SU
END:DAYLIGHT
BEGIN:STANDARD
TZOFFSETFROM:+0200
TZOFFSETTO:+0100
TZNAME:CET
DTSTART:19701025T030000
RRULE:FREQ=YEARLY;BYMONTH=10;BYDAY=-1SU
END:STANDARD
END:VTIMEZONE
BEGIN:VEVENT
CREATED:20150302T161035
LAST-MODIFIED:20150302T161052
DTSTAMP:20260420T050440Z
DTSTART;VALUE=DATE:20151104
CATEGORIES:Vereine
SUMMARY:Frühstück im Pfarrsaal Niederstaufen (Frauenbund)
UID:48d452e680906db5c97c4a8ddf22b57a@edcfadbda1458757b59248068739096e
END:VEVENT
BEGIN:VTIMEZONE
TZID:Europe/Berlin
TZURL:http://tzurl.org/zoneinfo-outlook/Europe/Berlin
X-LIC-LOCATION:Europe/Berlin
CALSCALE:GREGORIAN
BEGIN:DAYLIGHT
TZOFFSETFROM:+0100
TZOFFSETTO:+0200
TZNAME:CEST
DTSTART:19700329T020000
RRULE:FREQ=YEARLY;BYMONTH=3;BYDAY=-1SU
END:DAYLIGHT
BEGIN:STANDARD
TZOFFSETFROM:+0200
TZOFFSETTO:+0100
TZNAME:CET
DTSTART:19701025T030000
RRULE:FREQ=YEARLY;BYMONTH=10;BYDAY=-1SU
END:STANDARD
END:VTIMEZONE
BEGIN:VEVENT
CREATED:20150414T150240
LAST-MODIFIED:20150414T150250
ORGANIZER:MAILTO:Claudia Frener\, Claudiafrener@freenet.de
DTSTAMP:20260420T050440Z
DTSTART;TZID=Europe/Berlin:20151108T150000
DTEND;TZID=Europe/Berlin:20151108T170000
CATEGORIES:Vereine
SUMMARY:Reitverein Ponyreiten
DESCRIPTION:Der Reitverein Lindau e.V. lädt 2015 jeden 2. Sonntag im Monat
	 alle Kinder und Jugendliche recht herzlich zum Ponyreiten ein.Die jungen 
	Pferdenarren können ein paar Runden in der Reithalle auf unseren kleinen 
	und großen Pferden reiten und sie streicheln. Die Eltern können bei Kaff
	ee und Kuchen entspannt den Kindern zusehen. Kommen Sie einfach bei uns vo
	rbei und genießen sie die Zeit mit uns und auf den Pferden in der Reithal
	le des Reitvereins Lindau e.V.\, Lindauer Straße 73\, 88138 Weißensberg Ko
	ntakt Claudia Frener\, Claudiafrener@freenet.de
LOCATION:Reithalle Rehlings
UID:fa296e9d9a9141da6dc484a7ce71c691@edcfadbda1458757b59248068739096e
END:VEVENT
BEGIN:VTIMEZONE
TZID:Europe/Berlin
TZURL:http://tzurl.org/zoneinfo-outlook/Europe/Berlin
X-LIC-LOCATION:Europe/Berlin
CALSCALE:GREGORIAN
BEGIN:DAYLIGHT
TZOFFSETFROM:+0100
TZOFFSETTO:+0200
TZNAME:CEST
DTSTART:19700329T020000
RRULE:FREQ=YEARLY;BYMONTH=3;BYDAY=-1SU
END:DAYLIGHT
BEGIN:STANDARD
TZOFFSETFROM:+0200
TZOFFSETTO:+0100
TZNAME:CET
DTSTART:19701025T030000
RRULE:FREQ=YEARLY;BYMONTH=10;BYDAY=-1SU
END:STANDARD
END:VTIMEZONE
BEGIN:VEVENT
CREATED:20150302T161137
LAST-MODIFIED:20150302T161150
DTSTAMP:20260420T050440Z
DTSTART;VALUE=DATE:20151111
CATEGORIES:Kinder
SUMMARY:St. Martinsumzug Kindergarten Niederstaufen
UID:703cf9a924378a820e43ecd893b7f8f1@edcfadbda1458757b59248068739096e
END:VEVENT
BEGIN:VTIMEZONE
TZID:Europe/Berlin
TZURL:http://tzurl.org/zoneinfo-outlook/Europe/Berlin
X-LIC-LOCATION:Europe/Berlin
CALSCALE:GREGORIAN
BEGIN:DAYLIGHT
TZOFFSETFROM:+0100
TZOFFSETTO:+0200
TZNAME:CEST
DTSTART:19700329T020000
RRULE:FREQ=YEARLY;BYMONTH=3;BYDAY=-1SU
END:DAYLIGHT
BEGIN:STANDARD
TZOFFSETFROM:+0200
TZOFFSETTO:+0100
TZNAME:CET
DTSTART:19701025T030000
RRULE:FREQ=YEARLY;BYMONTH=10;BYDAY=-1SU
END:STANDARD
END:VTIMEZONE
BEGIN:VEVENT
CREATED:20150302T161201
LAST-MODIFIED:20151118T143935
ORGANIZER;CN="FFW Niederstaufen und Kindergarten Niederstaufen"
DTSTAMP:20260420T050440Z
DTSTART;TZID=Europe/Berlin:20151121T140000
DTEND;TZID=Europe/Berlin:20151121T235900
CATEGORIES:Feste und Feiern
SUMMARY:FiZ (Fest im Zentrum)
DESCRIPTION:Für die Kleinen: Kinderschminken Kasperletheater Selbstgemacht
	es Stockbrot   Selbstgemachte Schokofrüchteund weitere Leckereien   www
	.feuerwehr-niederstaufen.de Organisator FFW Niederstaufen und Kindergarten
	 Niederstaufen
LOCATION:Schulplatz Niederstaufen
UID:d04d2601a4e67a209ca11c97ee247d60@edcfadbda1458757b59248068739096e
END:VEVENT
BEGIN:VTIMEZONE
TZID:Europe/Berlin
TZURL:http://tzurl.org/zoneinfo-outlook/Europe/Berlin
X-LIC-LOCATION:Europe/Berlin
CALSCALE:GREGORIAN
BEGIN:DAYLIGHT
TZOFFSETFROM:+0100
TZOFFSETTO:+0200
TZNAME:CEST
DTSTART:19700329T020000
RRULE:FREQ=YEARLY;BYMONTH=3;BYDAY=-1SU
END:DAYLIGHT
BEGIN:STANDARD
TZOFFSETFROM:+0200
TZOFFSETTO:+0100
TZNAME:CET
DTSTART:19701025T030000
RRULE:FREQ=YEARLY;BYMONTH=10;BYDAY=-1SU
END:STANDARD
END:VTIMEZONE
BEGIN:VEVENT
CREATED:20150302T161416
LAST-MODIFIED:20150302T161433
ORGANIZER;CN="FFW Niederstaufen und Kindergarten Niederstaufen"
DTSTAMP:20260420T050440Z
DTSTART;VALUE=DATE:20151128
CATEGORIES:Vereine
SUMMARY:Jahreskonzert des Musikvereins Niederstaufen im Haus des Gastes in Schlachters
DESCRIPTION:Organisator FFW Niederstaufen und Kindergarten Niederstaufen
LOCATION:Schulplatz Niederstaufen
UID:cfb00a1699c3f5c7157155f7a7dc7a8d@edcfadbda1458757b59248068739096e
END:VEVENT
END:VCALENDAR