BEGIN:VCALENDAR
VERSION:1.0
PRODID:Open2CKalenderExportV11
BEGIN:VEVENT
DTSTAMP:20260423T120330Z
DTSTART:20260503T140000Z
DTEND:20260503T160000Z
CATEGORIES:Verschiedenes
SUMMARY:Heimatmuseum geöffnet - Dauerausstellung + Sonderausstellung
DESCRIPTION: | Organisator   Heimatverein Hergensweiler e. V.
LOCATION:Heimatmuseum 
 Dorfstraße 20
 88138 Hergensweiler
UID:4d96c49437e909a982a4334cb851dbc0-1e2b2d5dcfd60ed834a8f6e4b8b01145
PRIORITY:3
END:VEVENT
END:VCALENDAR
