BEGIN:VCALENDAR
VERSION:1.0
PRODID:Open2CKalenderExportV11
BEGIN:VEVENT
DTSTAMP:20260423T114725Z
DTSTART:20260607T140000Z
DTEND:20260607T160000Z
CATEGORIES:Verschiedenes
SUMMARY:Heimatmuseum geöffnet - Dauerausstellung + Sonderausstellung
DESCRIPTION: | Organisator   Heimatverein Hergensweiler e. V.
LOCATION:Heimatmuseum 
 Dorfstraße 20
 88138 Hergensweiler
UID:d0c7b924f168f905c3e700f1434d9354-1e2b2d5dcfd60ed834a8f6e4b8b01145
PRIORITY:3
END:VEVENT
END:VCALENDAR
